{"text_format":"1","workbook":"xlsx","n_sheets":4,"sheets":["Answer Sheet","My Score Records","Check","Score"],"not_rendered":{"charts":0,"images":0,"macros":1,"external_links":0,"defined_names":1,"comments":0,"pivot_tables":0},"unopened":[],"bounds":{"document_bytes":16777216,"sheet_cells":100000,"rows_first":2000,"rows_last":500,"rows_between":2000,"halvings":0,"cell_chars":16384,"cell_head_chars":4096},"cells_cut":0,"cells_raw":0,"read":"whole","date_system":"1900"}

{"sheet":"Answer Sheet","index":0,"n_rows":11,"n_cols":15,"rows_kept":11,"cut":false,"hidden":false,"merged":[]}
[null,2,8,2,4,7,5,2,8,10,6]
[7]
[1]
[10]
[3]
[10]
[4,null,null,null,null,null,null,null,null,null,null,null,"13:23:58.740",null,{"$f":"NOW()-TODAY()","v":"14:24:36.060"}]
[10]
[6]
[10,null,null,null,null,null,null,null,null,null,null,null,"Score",{"$f":"SUM(Score!L2:L11)/100","v":0}]
[10,null,null,null,null,null,null,null,null,null,null,null,"In",{"$f":"+O7-M7","v":"01:00:37.320"}]

{"sheet":"My Score Records","index":1,"n_rows":1,"n_cols":3,"rows_kept":1,"cut":false,"hidden":false,"merged":[]}
["Date","Score","Time"]

{"sheet":"Check","index":2,"n_rows":11,"n_cols":11,"rows_kept":11,"cut":false,"hidden":true,"merged":[]}
[null,{"$f":"+'Answer Sheet'!B1","v":2},{"$f":"+'Answer Sheet'!C1","v":8},{"$f":"+'Answer Sheet'!D1","v":2},{"$f":"+'Answer Sheet'!E1","v":4},{"$f":"+'Answer Sheet'!F1","v":7},{"$f":"+'Answer Sheet'!G1","v":5},{"$f":"+'Answer Sheet'!H1","v":2},{"$f":"+'Answer Sheet'!I1","v":8},{"$f":"+'Answer Sheet'!J1","v":10},{"$f":"+'Answer Sheet'!K1","v":6}]
[{"$f":"+'Answer Sheet'!A2","v":7},{"$f":"B1*A2","v":14},{"$f":"C$1*$A2","v":56},14,28,49,35,14,56,70,42]
[{"$f":"+'Answer Sheet'!A3","v":1},{"$f":"+A3*B1","v":2},8,2,4,7,5,2,8,10,6]
[{"$f":"+'Answer Sheet'!A4","v":10},{"$f":"B$1*$A4","v":20},80,20,40,70,50,20,80,100,60]
[{"$f":"+'Answer Sheet'!A5","v":3},6,24,6,12,21,15,6,24,30,18]
[{"$f":"+'Answer Sheet'!A6","v":10},20,80,20,40,70,50,20,80,100,60]
[{"$f":"+'Answer Sheet'!A7","v":4},8,32,8,16,28,20,8,32,40,24]
[{"$f":"+'Answer Sheet'!A8","v":10},20,80,20,40,70,50,20,80,100,60]
[{"$f":"+'Answer Sheet'!A9","v":6},12,48,12,24,42,30,12,48,60,36]
[{"$f":"+'Answer Sheet'!A10","v":10},20,80,20,40,70,50,20,80,100,60]
[{"$f":"+'Answer Sheet'!A11","v":10},20,80,20,40,70,50,20,80,100,60]

{"sheet":"Score","index":3,"n_rows":11,"n_cols":12,"rows_kept":11,"cut":false,"hidden":true,"merged":[]}
[null,{"$f":"Check!B1","v":2},{"$f":"Check!C1","v":8},{"$f":"Check!D1","v":2},{"$f":"Check!E1","v":4},{"$f":"Check!F1","v":7},{"$f":"Check!G1","v":5},{"$f":"Check!H1","v":2},{"$f":"Check!I1","v":8},{"$f":"Check!J1","v":10},{"$f":"Check!K1","v":6}]
[{"$f":"Check!A2","v":7},{"$f":"IF(Check!B2='Answer Sheet'!B2,1,0)","v":0},{"$f":"IF(Check!C2='Answer Sheet'!C2,1,0)","v":0},{"$f":"IF(Check!D2='Answer Sheet'!D2,1,0)","v":0},{"$f":"IF(Check!E2='Answer Sheet'!E2,1,0)","v":0},{"$f":"IF(Check!F2='Answer Sheet'!F2,1,0)","v":0},{"$f":"IF(Check!G2='Answer Sheet'!G2,1,0)","v":0},{"$f":"IF(Check!H2='Answer Sheet'!H2,1,0)","v":0},{"$f":"IF(Check!I2='Answer Sheet'!I2,1,0)","v":0},{"$f":"IF(Check!J2='Answer Sheet'!J2,1,0)","v":0},{"$f":"IF(Check!K2='Answer Sheet'!K2,1,0)","v":0},{"$f":"SUM(B2:K2)","v":0}]
[{"$f":"Check!A3","v":1},{"$f":"IF(Check!B3='Answer Sheet'!B3,1,0)","v":0},{"$f":"IF(Check!C3='Answer Sheet'!C3,1,0)","v":0},{"$f":"IF(Check!D3='Answer Sheet'!D3,1,0)","v":0},{"$f":"IF(Check!E3='Answer Sheet'!E3,1,0)","v":0},{"$f":"IF(Check!F3='Answer Sheet'!F3,1,0)","v":0},{"$f":"IF(Check!G3='Answer Sheet'!G3,1,0)","v":0},{"$f":"IF(Check!H3='Answer Sheet'!H3,1,0)","v":0},{"$f":"IF(Check!I3='Answer Sheet'!I3,1,0)","v":0},{"$f":"IF(Check!J3='Answer Sheet'!J3,1,0)","v":0},{"$f":"IF(Check!K3='Answer Sheet'!K3,1,0)","v":0},{"$f":"SUM(B3:K3)","v":0}]
[{"$f":"Check!A4","v":10},{"$f":"IF(Check!B4='Answer Sheet'!B4,1,0)","v":0},{"$f":"IF(Check!C4='Answer Sheet'!C4,1,0)","v":0},{"$f":"IF(Check!D4='Answer Sheet'!D4,1,0)","v":0},{"$f":"IF(Check!E4='Answer Sheet'!E4,1,0)","v":0},{"$f":"IF(Check!F4='Answer Sheet'!F4,1,0)","v":0},{"$f":"IF(Check!G4='Answer Sheet'!G4,1,0)","v":0},{"$f":"IF(Check!H4='Answer Sheet'!H4,1,0)","v":0},{"$f":"IF(Check!I4='Answer Sheet'!I4,1,0)","v":0},{"$f":"IF(Check!J4='Answer Sheet'!J4,1,0)","v":0},{"$f":"IF(Check!K4='Answer Sheet'!K4,1,0)","v":0},0]
[{"$f":"Check!A5","v":3},{"$f":"IF(Check!B5='Answer Sheet'!B5,1,0)","v":0},{"$f":"IF(Check!C5='Answer Sheet'!C5,1,0)","v":0},{"$f":"IF(Check!D5='Answer Sheet'!D5,1,0)","v":0},{"$f":"IF(Check!E5='Answer Sheet'!E5,1,0)","v":0},{"$f":"IF(Check!F5='Answer Sheet'!F5,1,0)","v":0},{"$f":"IF(Check!G5='Answer Sheet'!G5,1,0)","v":0},{"$f":"IF(Check!H5='Answer Sheet'!H5,1,0)","v":0},{"$f":"IF(Check!I5='Answer Sheet'!I5,1,0)","v":0},{"$f":"IF(Check!J5='Answer Sheet'!J5,1,0)","v":0},{"$f":"IF(Check!K5='Answer Sheet'!K5,1,0)","v":0},0]
[{"$f":"Check!A6","v":10},{"$f":"IF(Check!B6='Answer Sheet'!B6,1,0)","v":0},{"$f":"IF(Check!C6='Answer Sheet'!C6,1,0)","v":0},{"$f":"IF(Check!D6='Answer Sheet'!D6,1,0)","v":0},{"$f":"IF(Check!E6='Answer Sheet'!E6,1,0)","v":0},{"$f":"IF(Check!F6='Answer Sheet'!F6,1,0)","v":0},{"$f":"IF(Check!G6='Answer Sheet'!G6,1,0)","v":0},{"$f":"IF(Check!H6='Answer Sheet'!H6,1,0)","v":0},{"$f":"IF(Check!I6='Answer Sheet'!I6,1,0)","v":0},{"$f":"IF(Check!J6='Answer Sheet'!J6,1,0)","v":0},{"$f":"IF(Check!K6='Answer Sheet'!K6,1,0)","v":0},0]
[{"$f":"Check!A7","v":4},{"$f":"IF(Check!B7='Answer Sheet'!B7,1,0)","v":0},{"$f":"IF(Check!C7='Answer Sheet'!C7,1,0)","v":0},{"$f":"IF(Check!D7='Answer Sheet'!D7,1,0)","v":0},{"$f":"IF(Check!E7='Answer Sheet'!E7,1,0)","v":0},{"$f":"IF(Check!F7='Answer Sheet'!F7,1,0)","v":0},{"$f":"IF(Check!G7='Answer Sheet'!G7,1,0)","v":0},{"$f":"IF(Check!H7='Answer Sheet'!H7,1,0)","v":0},{"$f":"IF(Check!I7='Answer Sheet'!I7,1,0)","v":0},{"$f":"IF(Check!J7='Answer Sheet'!J7,1,0)","v":0},{"$f":"IF(Check!K7='Answer Sheet'!K7,1,0)","v":0},0]
[{"$f":"Check!A8","v":10},{"$f":"IF(Check!B8='Answer Sheet'!B8,1,0)","v":0},{"$f":"IF(Check!C8='Answer Sheet'!C8,1,0)","v":0},{"$f":"IF(Check!D8='Answer Sheet'!D8,1,0)","v":0},{"$f":"IF(Check!E8='Answer Sheet'!E8,1,0)","v":0},{"$f":"IF(Check!F8='Answer Sheet'!F8,1,0)","v":0},{"$f":"IF(Check!G8='Answer Sheet'!G8,1,0)","v":0},{"$f":"IF(Check!H8='Answer Sheet'!H8,1,0)","v":0},{"$f":"IF(Check!I8='Answer Sheet'!I8,1,0)","v":0},{"$f":"IF(Check!J8='Answer Sheet'!J8,1,0)","v":0},{"$f":"IF(Check!K8='Answer Sheet'!K8,1,0)","v":0},0]
[{"$f":"Check!A9","v":6},{"$f":"IF(Check!B9='Answer Sheet'!B9,1,0)","v":0},{"$f":"IF(Check!C9='Answer Sheet'!C9,1,0)","v":0},{"$f":"IF(Check!D9='Answer Sheet'!D9,1,0)","v":0},{"$f":"IF(Check!E9='Answer Sheet'!E9,1,0)","v":0},{"$f":"IF(Check!F9='Answer Sheet'!F9,1,0)","v":0},{"$f":"IF(Check!G9='Answer Sheet'!G9,1,0)","v":0},{"$f":"IF(Check!H9='Answer Sheet'!H9,1,0)","v":0},{"$f":"IF(Check!I9='Answer Sheet'!I9,1,0)","v":0},{"$f":"IF(Check!J9='Answer Sheet'!J9,1,0)","v":0},{"$f":"IF(Check!K9='Answer Sheet'!K9,1,0)","v":0},0]
[{"$f":"Check!A10","v":10},{"$f":"IF(Check!B10='Answer Sheet'!B10,1,0)","v":0},{"$f":"IF(Check!C10='Answer Sheet'!C10,1,0)","v":0},{"$f":"IF(Check!D10='Answer Sheet'!D10,1,0)","v":0},{"$f":"IF(Check!E10='Answer Sheet'!E10,1,0)","v":0},{"$f":"IF(Check!F10='Answer Sheet'!F10,1,0)","v":0},{"$f":"IF(Check!G10='Answer Sheet'!G10,1,0)","v":0},{"$f":"IF(Check!H10='Answer Sheet'!H10,1,0)","v":0},{"$f":"IF(Check!I10='Answer Sheet'!I10,1,0)","v":0},{"$f":"IF(Check!J10='Answer Sheet'!J10,1,0)","v":0},{"$f":"IF(Check!K10='Answer Sheet'!K10,1,0)","v":0},0]
[{"$f":"Check!A11","v":10},{"$f":"IF(Check!B11='Answer Sheet'!B11,1,0)","v":0},{"$f":"IF(Check!C11='Answer Sheet'!C11,1,0)","v":0},{"$f":"IF(Check!D11='Answer Sheet'!D11,1,0)","v":0},{"$f":"IF(Check!E11='Answer Sheet'!E11,1,0)","v":0},{"$f":"IF(Check!F11='Answer Sheet'!F11,1,0)","v":0},{"$f":"IF(Check!G11='Answer Sheet'!G11,1,0)","v":0},{"$f":"IF(Check!H11='Answer Sheet'!H11,1,0)","v":0},{"$f":"IF(Check!I11='Answer Sheet'!I11,1,0)","v":0},{"$f":"IF(Check!J11='Answer Sheet'!J11,1,0)","v":0},{"$f":"IF(Check!K11='Answer Sheet'!K11,1,0)","v":0},0]